BEGIN:VCALENDAR
VERSION:2.0
PRODID:-//3. Kompanie im Bürgerbataillon Hausberge - ECPv6.15.20//NONSGML v1.0//EN
CALSCALE:GREGORIAN
METHOD:PUBLISH
X-ORIGINAL-URL:https://3-kompanie-hausberge.de
X-WR-CALDESC:Veranstaltungen für 3. Kompanie im Bürgerbataillon Hausberge
REFRESH-INTERVAL;VALUE=DURATION:PT1H
X-Robots-Tag:noindex
X-PUBLISHED-TTL:PT1H
BEGIN:VTIMEZONE
TZID:Europe/Berlin
BEGIN:DAYLIGHT
TZOFFSETFROM:+0100
TZOFFSETTO:+0200
TZNAME:CEST
DTSTART:20250330T010000
END:DAYLIGHT
BEGIN:STANDARD
TZOFFSETFROM:+0200
TZOFFSETTO:+0100
TZNAME:CET
DTSTART:20251026T010000
END:STANDARD
BEGIN:DAYLIGHT
TZOFFSETFROM:+0100
TZOFFSETTO:+0200
TZNAME:CEST
DTSTART:20260329T010000
END:DAYLIGHT
BEGIN:STANDARD
TZOFFSETFROM:+0200
TZOFFSETTO:+0100
TZNAME:CET
DTSTART:20261025T010000
END:STANDARD
BEGIN:DAYLIGHT
TZOFFSETFROM:+0100
TZOFFSETTO:+0200
TZNAME:CEST
DTSTART:20270328T010000
END:DAYLIGHT
BEGIN:STANDARD
TZOFFSETFROM:+0200
TZOFFSETTO:+0100
TZNAME:CET
DTSTART:20271031T010000
END:STANDARD
END:VTIMEZONE
BEGIN:VEVENT
DTSTART;TZID=Europe/Berlin:20260509T140000
DTEND;TZID=Europe/Berlin:20260509T170000
DTSTAMP:20260420T131318
CREATED:20250125T164440Z
LAST-MODIFIED:20260413T000558Z
UID:168-1778335200-1778346000@3-kompanie-hausberge.de
SUMMARY:1. Bataillonsübungsschießen - Schießstand Jugendherberge
DESCRIPTION:Kleinkaliber 50-Meter: Ab 16 Jahren \nLuftgewehr 10-Meter: 10-15 Jahre \nFür das leibliche Wohl ist bestens gesorgt\, Parkmöglichkeiten oberhalb der Jugendherberge auf der Wiese.
URL:https://3-kompanie-hausberge.de/termin/1-bataillonsuebungsschiessen/
LOCATION:Schießstand a. d. Jugendherberge Hausberge\, Kirchsiek 30\, Porta Westfalica\, 32457
END:VEVENT
END:VCALENDAR