BEGIN:VCALENDAR
VERSION:2.0
PRODID:-//3. Kompanie im Bürgerbataillon Hausberge - ECPv6.15.20//NONSGML v1.0//EN
CALSCALE:GREGORIAN
METHOD:PUBLISH
X-ORIGINAL-URL:https://3-kompanie-hausberge.de
X-WR-CALDESC:Veranstaltungen für 3. Kompanie im Bürgerbataillon Hausberge
REFRESH-INTERVAL;VALUE=DURATION:PT1H
X-Robots-Tag:noindex
X-PUBLISHED-TTL:PT1H
BEGIN:VTIMEZONE
TZID:Europe/Berlin
BEGIN:DAYLIGHT
TZOFFSETFROM:+0100
TZOFFSETTO:+0200
TZNAME:CEST
DTSTART:20250330T010000
END:DAYLIGHT
BEGIN:STANDARD
TZOFFSETFROM:+0200
TZOFFSETTO:+0100
TZNAME:CET
DTSTART:20251026T010000
END:STANDARD
BEGIN:DAYLIGHT
TZOFFSETFROM:+0100
TZOFFSETTO:+0200
TZNAME:CEST
DTSTART:20260329T010000
END:DAYLIGHT
BEGIN:STANDARD
TZOFFSETFROM:+0200
TZOFFSETTO:+0100
TZNAME:CET
DTSTART:20261025T010000
END:STANDARD
BEGIN:DAYLIGHT
TZOFFSETFROM:+0100
TZOFFSETTO:+0200
TZNAME:CEST
DTSTART:20270328T010000
END:DAYLIGHT
BEGIN:STANDARD
TZOFFSETFROM:+0200
TZOFFSETTO:+0100
TZNAME:CET
DTSTART:20271031T010000
END:STANDARD
END:VTIMEZONE
BEGIN:VEVENT
DTSTART;TZID=Europe/Berlin:20260513T150000
DTEND;TZID=Europe/Berlin:20260513T190000
DTSTAMP:20260420T130723
CREATED:20260321T144939Z
LAST-MODIFIED:20260321T152458Z
UID:1761-1778684400-1778698800@3-kompanie-hausberge.de
SUMMARY:Schmücken des Kp.-Bereichs
DESCRIPTION:Masten verteilen\, Fahnen und Wimpelketten aufhängen. \nTreffen der Teams bei R. Lübbing. Einteilung nach Kp.-Befehl od. Absprache. \nAbschluss ca 19.00 Uhr bei R. Lübbing.
URL:https://3-kompanie-hausberge.de/termin/schmuecken-des-kp-bereichs/
LOCATION:Kp.-Stützpunkt Tieloserweg\, Tieloserweg 8\, Porta Westfalica\, 32457
END:VEVENT
END:VCALENDAR