BEGIN:VCALENDAR
VERSION:2.0
PRODID:-//3. Kompanie im Bürgerbataillon Hausberge - ECPv6.15.20//NONSGML v1.0//EN
CALSCALE:GREGORIAN
METHOD:PUBLISH
X-WR-CALNAME:3. Kompanie im Bürgerbataillon Hausberge
X-ORIGINAL-URL:https://3-kompanie-hausberge.de
X-WR-CALDESC:Veranstaltungen für 3. Kompanie im Bürgerbataillon Hausberge
REFRESH-INTERVAL;VALUE=DURATION:PT1H
X-Robots-Tag:noindex
X-PUBLISHED-TTL:PT1H
BEGIN:VTIMEZONE
TZID:Europe/Berlin
BEGIN:DAYLIGHT
TZOFFSETFROM:+0100
TZOFFSETTO:+0200
TZNAME:CEST
DTSTART:20250330T010000
END:DAYLIGHT
BEGIN:STANDARD
TZOFFSETFROM:+0200
TZOFFSETTO:+0100
TZNAME:CET
DTSTART:20251026T010000
END:STANDARD
BEGIN:DAYLIGHT
TZOFFSETFROM:+0100
TZOFFSETTO:+0200
TZNAME:CEST
DTSTART:20260329T010000
END:DAYLIGHT
BEGIN:STANDARD
TZOFFSETFROM:+0200
TZOFFSETTO:+0100
TZNAME:CET
DTSTART:20261025T010000
END:STANDARD
BEGIN:DAYLIGHT
TZOFFSETFROM:+0100
TZOFFSETTO:+0200
TZNAME:CEST
DTSTART:20270328T010000
END:DAYLIGHT
BEGIN:STANDARD
TZOFFSETFROM:+0200
TZOFFSETTO:+0100
TZNAME:CET
DTSTART:20271031T010000
END:STANDARD
END:VTIMEZONE
BEGIN:VEVENT
DTSTART;VALUE=DATE:20260522
DTEND;VALUE=DATE:20260526
DTSTAMP:20260422T133213
CREATED:20260413T001347Z
LAST-MODIFIED:20260413T001347Z
UID:1939-1779408000-1779753599@3-kompanie-hausberge.de
SUMMARY:Hausberger Freischießen
DESCRIPTION:
URL:https://3-kompanie-hausberge.de/termin/hausberger-freischiessen/
END:VEVENT
BEGIN:VEVENT
DTSTART;TZID=Europe/Berlin:20260523T093000
DTEND;TZID=Europe/Berlin:20260523T104000
DTSTAMP:20260422T133213
CREATED:20260412T231603Z
LAST-MODIFIED:20260412T231842Z
UID:1891-1779528600-1779532800@3-kompanie-hausberge.de
SUMMARY:Sammeln der Kp. - Frettholzweg 2
DESCRIPTION:Mit Frühstück. \nAb 10:00 Uhr: Platzkonzert durch Sülter Musikanten
URL:https://3-kompanie-hausberge.de/termin/sammeln-der-kp-frettholzweg/
LOCATION:Kp.-Stützpunkt Frettholzweg\, Frettholzweg 2\, Porta Westfalica\, 32457\, Germany
END:VEVENT
BEGIN:VEVENT
DTSTART;TZID=Europe/Berlin:20260523T104000
DTEND;TZID=Europe/Berlin:20260523T111500
DTSTAMP:20260422T133213
CREATED:20260321T144939Z
LAST-MODIFIED:20260412T233017Z
UID:1787-1779532800-1779534900@3-kompanie-hausberge.de
SUMMARY:Antreten der Kp. - Frettholzweg 2
DESCRIPTION:Antreten der Kameraden und der Kompaniejugend am Kp.-Stützpunkt Frettholzweg. \nU.a. Beförderungen der Kompaniejugend.
URL:https://3-kompanie-hausberge.de/termin/antreten-am-kp-stuetzpunkt-frettholzweg/
LOCATION:Kp.-Stützpunkt Frettholzweg\, Frettholzweg 2\, Porta Westfalica\, 32457\, Germany
END:VEVENT
BEGIN:VEVENT
DTSTART;TZID=Europe/Berlin:20260523T111500
DTEND;TZID=Europe/Berlin:20260523T120000
DTSTAMP:20260422T133213
CREATED:20260412T231823Z
LAST-MODIFIED:20260412T232147Z
UID:1893-1779534900-1779537600@3-kompanie-hausberge.de
SUMMARY:Abmarsch der Kp. - Frettholzweg 2
DESCRIPTION:Marsch zum Kp.-Stützpunkt Tieloserweg 8. \nMarschweg: Frettholzweg\, Eisberger Str.\, Veltheimer Str.\, Richard-Wagner-Str.\, Gustav-Pinkus-Str.\, Antoniusweg\, Narzissenweg\, Tieloserweg
URL:https://3-kompanie-hausberge.de/termin/antreten-der-kp-frettholzweg-2/
LOCATION:Kp.-Stützpunkt Frettholzweg\, Frettholzweg 2\, Porta Westfalica\, 32457\, Germany
END:VEVENT
BEGIN:VEVENT
DTSTART;TZID=Europe/Berlin:20260523T124000
DTEND;TZID=Europe/Berlin:20260523T130500
DTSTAMP:20260422T133213
CREATED:20260321T144939Z
LAST-MODIFIED:20260412T232924Z
UID:1789-1779540000-1779541500@3-kompanie-hausberge.de
SUMMARY:Antreten der Kp. - Tieloserweg 8
DESCRIPTION:Antreten der Kameraden und der Kompaniejugend am Kp.-Stützpunk Tieloserweg. \nWeitere Beförderungen. \n13:05 Uhr: Abfahrt 1. Deckung zum Schießstand an der Jugendherberge. \nSiehe Kp.-Befehl.
URL:https://3-kompanie-hausberge.de/termin/antreten-am-kp-stuetzpunkt-tieloserweg/
LOCATION:Kp.-Stützpunkt Tieloserweg\, Tieloserweg 8\, Porta Westfalica\, 32457
END:VEVENT
BEGIN:VEVENT
DTSTART;TZID=Europe/Berlin:20260523T130500
DTEND;TZID=Europe/Berlin:20260523T131000
DTSTAMP:20260422T133213
CREATED:20260412T232606Z
LAST-MODIFIED:20260412T233651Z
UID:1900-1779541500-1779541800@3-kompanie-hausberge.de
SUMMARY:Abfahrt 1. Deckung - Tieloserweg 8
DESCRIPTION:13:05 Uhr: Abfahrt der Schießoffiziere und der 1. Deckung zum Schießstand an der Jugendherberge. – Siehe Kp.-Befehl.
URL:https://3-kompanie-hausberge.de/termin/abfahrt-1-deckung-tieloserweg-8/
LOCATION:Kp.-Stützpunkt Tieloserweg\, Tieloserweg 8\, Porta Westfalica\, 32457
END:VEVENT
BEGIN:VEVENT
DTSTART;TZID=Europe/Berlin:20260523T132000
DTEND;TZID=Europe/Berlin:20260523T140000
DTSTAMP:20260422T133213
CREATED:20260412T232344Z
LAST-MODIFIED:20260412T233408Z
UID:1898-1779542400-1779544800@3-kompanie-hausberge.de
SUMMARY:Abmarsch der Kp. - Tieloserweg 8
DESCRIPTION:Abmarsch zum Schießstand an der Jugendherberge. \nMarschweg: Tieloserweg\, Kiekenbrink\, Alberburg und weiter direkt zur Wiese oberhalb der Jugendherberge.
URL:https://3-kompanie-hausberge.de/termin/antreten-der-kp-tieloserweg-8/
LOCATION:Kp.-Stützpunkt Tieloserweg\, Tieloserweg 8\, Porta Westfalica\, 32457
END:VEVENT
BEGIN:VEVENT
DTSTART;TZID=Europe/Berlin:20260523T140000
DTEND;TZID=Europe/Berlin:20260523T163000
DTSTAMP:20260422T133213
CREATED:20260321T144831Z
LAST-MODIFIED:20260413T000401Z
UID:1799-1779544800-1779553800@3-kompanie-hausberge.de
SUMMARY:Qualifikationsschießen - Schießstand Jugendherberge
DESCRIPTION:Weitere Infos folgen!
URL:https://3-kompanie-hausberge.de/termin/qualifikationsschiessen-hausberger-freischiessen/
LOCATION:Schießstand a. d. Jugendherberge Hausberge\, Kirchsiek 30\, Porta Westfalica\, 32457
END:VEVENT
BEGIN:VEVENT
DTSTART;TZID=Europe/Berlin:20260523T170000
DTEND;TZID=Europe/Berlin:20260523T173000
DTSTAMP:20260422T133213
CREATED:20260412T234210Z
LAST-MODIFIED:20260412T234219Z
UID:1908-1779555600-1779557400@3-kompanie-hausberge.de
SUMMARY:Abmarsch des Bataillons - Schießstand Jugendherberge
DESCRIPTION:Marsch des Bataillons von der Wiese oberhalb der Jugendherberge zum Festplatz „Michelsohnplatz“.
URL:https://3-kompanie-hausberge.de/termin/abmarsch-des-bataillons-jugendherberge/
LOCATION:Schießstand a. d. Jugendherberge Hausberge\, Kirchsiek 30\, Porta Westfalica\, 32457
END:VEVENT
BEGIN:VEVENT
DTSTART;TZID=Europe/Berlin:20260523T200000
DTEND;TZID=Europe/Berlin:20260523T235900
DTSTAMP:20260422T133213
CREATED:20260411T113848Z
LAST-MODIFIED:20260412T234357Z
UID:1880-1779566400-1779580740@3-kompanie-hausberge.de
SUMMARY:Partyabend mit "Crossover" - Festzelt
DESCRIPTION:Großer Tanzabend mit der Top 40 Band „Crossover“.
URL:https://3-kompanie-hausberge.de/termin/grosser-tanzabend-mit-crossover/
LOCATION:Festplatz\, Michelsohnplatz\, Porta Westfalica\, 32457\, Germany
END:VEVENT
END:VCALENDAR