BEGIN:VCALENDAR
VERSION:2.0
PRODID:-//3. Kompanie im Bürgerbataillon Hausberge - ECPv6.15.20//NONSGML v1.0//EN
CALSCALE:GREGORIAN
METHOD:PUBLISH
X-ORIGINAL-URL:https://3-kompanie-hausberge.de
X-WR-CALDESC:Veranstaltungen für 3. Kompanie im Bürgerbataillon Hausberge
REFRESH-INTERVAL;VALUE=DURATION:PT1H
X-Robots-Tag:noindex
X-PUBLISHED-TTL:PT1H
BEGIN:VTIMEZONE
TZID:Europe/Berlin
BEGIN:DAYLIGHT
TZOFFSETFROM:+0100
TZOFFSETTO:+0200
TZNAME:CEST
DTSTART:20250330T010000
END:DAYLIGHT
BEGIN:STANDARD
TZOFFSETFROM:+0200
TZOFFSETTO:+0100
TZNAME:CET
DTSTART:20251026T010000
END:STANDARD
BEGIN:DAYLIGHT
TZOFFSETFROM:+0100
TZOFFSETTO:+0200
TZNAME:CEST
DTSTART:20260329T010000
END:DAYLIGHT
BEGIN:STANDARD
TZOFFSETFROM:+0200
TZOFFSETTO:+0100
TZNAME:CET
DTSTART:20261025T010000
END:STANDARD
BEGIN:DAYLIGHT
TZOFFSETFROM:+0100
TZOFFSETTO:+0200
TZNAME:CEST
DTSTART:20270328T010000
END:DAYLIGHT
BEGIN:STANDARD
TZOFFSETFROM:+0200
TZOFFSETTO:+0100
TZNAME:CET
DTSTART:20271031T010000
END:STANDARD
END:VTIMEZONE
BEGIN:VEVENT
DTSTART;VALUE=DATE:20260822
DTEND;VALUE=DATE:20260823
DTSTAMP:20260420T212605
CREATED:20260119T121613Z
LAST-MODIFIED:20260411T113355Z
UID:1748-1787356800-1787443199@3-kompanie-hausberge.de
SUMMARY:"Fahrt ins Blaue"
DESCRIPTION:Treffpunkt Glacisbrücke\, auf dem Parkplatz Kanzlers Weide. \nAbfahrt vom Schiffsanleger der weissen Flotte an der Weserpromenade.
URL:https://3-kompanie-hausberge.de/termin/fahrt-ins-blaue/
LOCATION:Kanzlers Weide\, Glacisbrücke\, Kanzlers Weide\, Minden\, Germany
END:VEVENT
END:VCALENDAR